BEGIN:VCALENDAR
VERSION:2.0
PRODID:-//Amicale Laïque Tournefeuille (ALT) - ECPv6.15.15//NONSGML v1.0//EN
CALSCALE:GREGORIAN
METHOD:PUBLISH
X-WR-CALNAME:Amicale Laïque Tournefeuille (ALT)
X-ORIGINAL-URL:https://al-tournefeuille.fr
X-WR-CALDESC:Évènements pour Amicale Laïque Tournefeuille (ALT)
REFRESH-INTERVAL;VALUE=DURATION:PT1H
X-Robots-Tag:noindex
X-PUBLISHED-TTL:PT1H
BEGIN:VTIMEZONE
TZID:Europe/Paris
BEGIN:DAYLIGHT
TZOFFSETFROM:+0100
TZOFFSETTO:+0200
TZNAME:CEST
DTSTART:20240331T010000
END:DAYLIGHT
BEGIN:STANDARD
TZOFFSETFROM:+0200
TZOFFSETTO:+0100
TZNAME:CET
DTSTART:20241027T010000
END:STANDARD
BEGIN:DAYLIGHT
TZOFFSETFROM:+0100
TZOFFSETTO:+0200
TZNAME:CEST
DTSTART:20250330T010000
END:DAYLIGHT
BEGIN:STANDARD
TZOFFSETFROM:+0200
TZOFFSETTO:+0100
TZNAME:CET
DTSTART:20251026T010000
END:STANDARD
BEGIN:DAYLIGHT
TZOFFSETFROM:+0100
TZOFFSETTO:+0200
TZNAME:CEST
DTSTART:20260329T010000
END:DAYLIGHT
BEGIN:STANDARD
TZOFFSETFROM:+0200
TZOFFSETTO:+0100
TZNAME:CET
DTSTART:20261025T010000
END:STANDARD
END:VTIMEZONE
BEGIN:VEVENT
DTSTART;TZID=Europe/Paris:20250515T183000
DTEND;TZID=Europe/Paris:20250515T200000
DTSTAMP:20260421T053836
CREATED:20250514T092702Z
LAST-MODIFIED:20250514T093408Z
UID:2890-1747333800-1747339200@al-tournefeuille.fr
SUMMARY:Vernissage Atelier Regards Photographiques
DESCRIPTION:Jeudi 15 mai à 18h30 \nEn savoir plus
URL:https://al-tournefeuille.fr/calendrier/vernissage-atelier-regards-photographiques/
END:VEVENT
END:VCALENDAR