BEGIN:VCALENDAR
VERSION:2.0
PRODID:-//Amicale Laïque Tournefeuille (ALT) - ECPv6.15.15//NONSGML v1.0//EN
CALSCALE:GREGORIAN
METHOD:PUBLISH
X-ORIGINAL-URL:https://al-tournefeuille.fr
X-WR-CALDESC:Évènements pour Amicale Laïque Tournefeuille (ALT)
REFRESH-INTERVAL;VALUE=DURATION:PT1H
X-Robots-Tag:noindex
X-PUBLISHED-TTL:PT1H
BEGIN:VTIMEZONE
TZID:Europe/Paris
BEGIN:DAYLIGHT
TZOFFSETFROM:+0100
TZOFFSETTO:+0200
TZNAME:CEST
DTSTART:20240331T010000
END:DAYLIGHT
BEGIN:STANDARD
TZOFFSETFROM:+0200
TZOFFSETTO:+0100
TZNAME:CET
DTSTART:20241027T010000
END:STANDARD
BEGIN:DAYLIGHT
TZOFFSETFROM:+0100
TZOFFSETTO:+0200
TZNAME:CEST
DTSTART:20250330T010000
END:DAYLIGHT
BEGIN:STANDARD
TZOFFSETFROM:+0200
TZOFFSETTO:+0100
TZNAME:CET
DTSTART:20251026T010000
END:STANDARD
BEGIN:DAYLIGHT
TZOFFSETFROM:+0100
TZOFFSETTO:+0200
TZNAME:CEST
DTSTART:20260329T010000
END:DAYLIGHT
BEGIN:STANDARD
TZOFFSETFROM:+0200
TZOFFSETTO:+0100
TZNAME:CET
DTSTART:20261025T010000
END:STANDARD
END:VTIMEZONE
BEGIN:VEVENT
DTSTART;TZID=Europe/Paris:20250621T143000
DTEND;TZID=Europe/Paris:20250621T180000
DTSTAMP:20260421T071433
CREATED:20250614T114344Z
LAST-MODIFIED:20250614T115332Z
UID:2923-1750516200-1750528800@al-tournefeuille.fr
SUMMARY:Renouvellement adhésion ALT
DESCRIPTION:Samedi 21 et 28 juin 2025 de 14h30 à 18h \nEn savoir plus \nPossibilité de prendre part au repas associatif à midi le même jour.
URL:https://al-tournefeuille.fr/calendrier/renouvellement-adhesion-alt/
ATTACH;FMTTYPE=image/png:https://al-tournefeuille.fr/wp-content/uploads/2024/11/logo-alt-2-1-copie.png
END:VEVENT
END:VCALENDAR