BEGIN:VCALENDAR
VERSION:2.0
PRODID:-//Amicale Laïque Tournefeuille (ALT) - ECPv6.15.15//NONSGML v1.0//EN
CALSCALE:GREGORIAN
METHOD:PUBLISH
X-ORIGINAL-URL:https://al-tournefeuille.fr
X-WR-CALDESC:Évènements pour Amicale Laïque Tournefeuille (ALT)
REFRESH-INTERVAL;VALUE=DURATION:PT1H
X-Robots-Tag:noindex
X-PUBLISHED-TTL:PT1H
BEGIN:VTIMEZONE
TZID:Europe/Paris
BEGIN:DAYLIGHT
TZOFFSETFROM:+0100
TZOFFSETTO:+0200
TZNAME:CEST
DTSTART:20250330T010000
END:DAYLIGHT
BEGIN:STANDARD
TZOFFSETFROM:+0200
TZOFFSETTO:+0100
TZNAME:CET
DTSTART:20251026T010000
END:STANDARD
BEGIN:DAYLIGHT
TZOFFSETFROM:+0100
TZOFFSETTO:+0200
TZNAME:CEST
DTSTART:20260329T010000
END:DAYLIGHT
BEGIN:STANDARD
TZOFFSETFROM:+0200
TZOFFSETTO:+0100
TZNAME:CET
DTSTART:20261025T010000
END:STANDARD
BEGIN:DAYLIGHT
TZOFFSETFROM:+0100
TZOFFSETTO:+0200
TZNAME:CEST
DTSTART:20270328T010000
END:DAYLIGHT
BEGIN:STANDARD
TZOFFSETFROM:+0200
TZOFFSETTO:+0100
TZNAME:CET
DTSTART:20271031T010000
END:STANDARD
END:VTIMEZONE
BEGIN:VEVENT
DTSTART;TZID=Europe/Paris:20260111T150000
DTEND;TZID=Europe/Paris:20260111T170000
DTSTAMP:20260421T140020
CREATED:20251218T113951Z
LAST-MODIFIED:20251218T113951Z
UID:3553-1768143600-1768150800@al-tournefeuille.fr
SUMMARY:Dimanche dansant - 11 janvier 2026
DESCRIPTION:ALT Danses Tournefeuille organise un après-midi placé sous le signe de la danse\, de la bonne humeur et du partage.\nQue tu sois danseur\, débutant ou confirmé\, viens bouger avec nous et passer un moment convivial.\nQuand ? Dimanche 11 Janvier 2026 à partir de 15h\nOù ? Lieu : Annexe Mairie Château\, \n10\, Allée Samuel Paty\, 31170 Tournefeuille \nentrée face à l’école du Château- 31170 Tournefeuille \nAu programme :\n\n\nInitiation / Démonstration à la danse  organisé par notre professeur PATOU\nMoment libre pour « danser et s’animer »\nCollations et rafraîchissements offerts\n\n\nN’hésite pas à venir accompagné (e) et apporter la bonne humeur.\n\n\n \nNB : Dimanche exceptionnel – Venez déguster une délicieuse galette\, tirer les rois et passer un moment convivial ensemble.\nQui trouvera la fève et deviendra le roi ou la reine de la journée ? \n\n\n\n\n\nALT Tournefeuille Danses Salon et Rock
URL:https://al-tournefeuille.fr/calendrier/dimanche-dansant-11-janvier-2026/
END:VEVENT
END:VCALENDAR