BEGIN:VCALENDAR
VERSION:2.0
PRODID:-//Amicale Laïque Tournefeuille (ALT) - ECPv6.15.15//NONSGML v1.0//EN
CALSCALE:GREGORIAN
METHOD:PUBLISH
X-WR-CALNAME:Amicale Laïque Tournefeuille (ALT)
X-ORIGINAL-URL:https://al-tournefeuille.fr
X-WR-CALDESC:Évènements pour Amicale Laïque Tournefeuille (ALT)
REFRESH-INTERVAL;VALUE=DURATION:PT1H
X-Robots-Tag:noindex
X-PUBLISHED-TTL:PT1H
BEGIN:VTIMEZONE
TZID:Europe/Paris
BEGIN:DAYLIGHT
TZOFFSETFROM:+0100
TZOFFSETTO:+0200
TZNAME:CEST
DTSTART:20240331T010000
END:DAYLIGHT
BEGIN:STANDARD
TZOFFSETFROM:+0200
TZOFFSETTO:+0100
TZNAME:CET
DTSTART:20241027T010000
END:STANDARD
BEGIN:DAYLIGHT
TZOFFSETFROM:+0100
TZOFFSETTO:+0200
TZNAME:CEST
DTSTART:20250330T010000
END:DAYLIGHT
BEGIN:STANDARD
TZOFFSETFROM:+0200
TZOFFSETTO:+0100
TZNAME:CET
DTSTART:20251026T010000
END:STANDARD
BEGIN:DAYLIGHT
TZOFFSETFROM:+0100
TZOFFSETTO:+0200
TZNAME:CEST
DTSTART:20260329T010000
END:DAYLIGHT
BEGIN:STANDARD
TZOFFSETFROM:+0200
TZOFFSETTO:+0100
TZNAME:CET
DTSTART:20261025T010000
END:STANDARD
END:VTIMEZONE
BEGIN:VEVENT
DTSTART;TZID=Europe/Paris:20251110T080000
DTEND;TZID=Europe/Paris:20251115T100000
DTSTAMP:20260421T095224
CREATED:20250107T123303Z
LAST-MODIFIED:20250907T084652Z
UID:2817-1762761600-1763200800@al-tournefeuille.fr
SUMMARY:Pyrénées - Le bois Perché à Aspet
DESCRIPTION:Formulaire de préinscription
URL:https://al-tournefeuille.fr/calendrier/pyrenees-le-bois-perche-a-aspet/
END:VEVENT
BEGIN:VEVENT
DTSTART;TZID=Europe/Paris:20251116T150000
DTEND;TZID=Europe/Paris:20251116T180000
DTSTAMP:20260421T095224
CREATED:20251105T094746Z
LAST-MODIFIED:20251105T100940Z
UID:3529-1763305200-1763316000@al-tournefeuille.fr
SUMMARY:Danses de salon et Rock
DESCRIPTION:ALT Danses Tournefeuille organise un après-midi placé sous le signe de la danse\, de la bonne humeur et du partage.\nQue tu sois danseur\, débutant ou confirmé\, viens bouger avec nous et passer un moment convivial.\n\nQuand ? Dimanche 16 novembre à partir de 15h\nOù ? Lieu : Annexe Mairie Château\, \n10\, Allée Samuel Paty\, 31170 Tournefeuille \nentrée face à l’école du Château- 31170 Tournefeuille \n\nAu programme :\n\n\nInitiation aux différents types de danse organisé par notre professeur PATOU\nMoment libre pour « danser et s’animer »\nCollations et rafraîchissements offerts\n\n\nN’hésite pas à venir accompagné (e) et apporter la bonne humeur.\n\nMerci de nous confirmer ta présence avant le vendredi 14 Novembre pour mieux nous organiser.\nConfirmation par mail ou téléphone avec réponse OUI ou NON ou peut-être\nContact pour réponse : Jean Monestier – Tél 06 09 99 58 05 – Adresse mail: jean.monestier31@gmail.com\n\n\nBien à vous\n\n\n\n\n\nALT Tournefeuille Danses Salon et Rock
URL:https://al-tournefeuille.fr/calendrier/danses-de-salon-et-rock/
END:VEVENT
END:VCALENDAR