BEGIN:VCALENDAR
VERSION:2.0
PRODID:-//Amicale Laïque Tournefeuille (ALT) - ECPv6.15.15//NONSGML v1.0//EN
CALSCALE:GREGORIAN
METHOD:PUBLISH
X-WR-CALNAME:Amicale Laïque Tournefeuille (ALT)
X-ORIGINAL-URL:https://al-tournefeuille.fr
X-WR-CALDESC:Évènements pour Amicale Laïque Tournefeuille (ALT)
REFRESH-INTERVAL;VALUE=DURATION:PT1H
X-Robots-Tag:noindex
X-PUBLISHED-TTL:PT1H
BEGIN:VTIMEZONE
TZID:Europe/Paris
BEGIN:DAYLIGHT
TZOFFSETFROM:+0100
TZOFFSETTO:+0200
TZNAME:CEST
DTSTART:20240331T010000
END:DAYLIGHT
BEGIN:STANDARD
TZOFFSETFROM:+0200
TZOFFSETTO:+0100
TZNAME:CET
DTSTART:20241027T010000
END:STANDARD
BEGIN:DAYLIGHT
TZOFFSETFROM:+0100
TZOFFSETTO:+0200
TZNAME:CEST
DTSTART:20250330T010000
END:DAYLIGHT
BEGIN:STANDARD
TZOFFSETFROM:+0200
TZOFFSETTO:+0100
TZNAME:CET
DTSTART:20251026T010000
END:STANDARD
BEGIN:DAYLIGHT
TZOFFSETFROM:+0100
TZOFFSETTO:+0200
TZNAME:CEST
DTSTART:20260329T010000
END:DAYLIGHT
BEGIN:STANDARD
TZOFFSETFROM:+0200
TZOFFSETTO:+0100
TZNAME:CET
DTSTART:20261025T010000
END:STANDARD
END:VTIMEZONE
BEGIN:VEVENT
DTSTART;TZID=Europe/Paris:20251207T110000
DTEND;TZID=Europe/Paris:20251207T170000
DTSTAMP:20260421T111410
CREATED:20251128T155251Z
LAST-MODIFIED:20251128T170315Z
UID:3536-1765105200-1765126800@al-tournefeuille.fr
SUMMARY:Marché Gourmand\, repas\, expo vente\, danses et jeux  -  7 décembre 2025
DESCRIPTION:Au programme à la Maison de la Citoyenneté dimanche 7 décembre : \n\nMarché Gourmand de Noël de l’Amicale Laïque de Tournefeuille de 11h à 12h30 et de 14h30 à 17h\nVous pouvez venir faire vos achats le jour même et/ou passer commande de produits frais (fromages\, charcuterie\, truites\, chocolats\, etc)\nRetrait des commandes les 19 et 20 décembre (Goûter Gourmand)\nExpo vente de la section Peinture sur Porcelaine\nExposition de photographies de l’Atelier Regards Photographiques\nRepas Gourmand de l’ALT à 12h45\nAprès-midi danses de salon et rock et/ou jeux de société après le repas\nDécouverte et renseignements sur les activités de l’Amicale…\n\nMerci de confirmer votre présence au repas en renseignant le formulaire
URL:https://al-tournefeuille.fr/calendrier/marche-gourmand-expo-vente-danses-et-jeux-7-decembre-2025/
LOCATION:Maison de la Citoyenneté\, Place de la Mairie\, TOURNEFEUILLE\, france\, 31170\, France
END:VEVENT
BEGIN:VEVENT
DTSTART;TZID=Europe/Paris:20251219T173000
DTEND;TZID=Europe/Paris:20251219T193000
DTSTAMP:20260421T111410
CREATED:20251207T155328Z
LAST-MODIFIED:20251207T155427Z
UID:3547-1766165400-1766172600@al-tournefeuille.fr
SUMMARY:Marché Gourmand - vendredi 19 décembre 2025
DESCRIPTION:Vendredi 19 décembre de 17h30 à 19h30 \nAchat de produits en direct… et récupération des produits frais commandés \nFormulaire de commandes des produits frais \nA cette occasion un vin chaud sera offert…
URL:https://al-tournefeuille.fr/calendrier/marche-gourmand/
END:VEVENT
BEGIN:VEVENT
DTSTART;TZID=Europe/Paris:20251220T143000
DTEND;TZID=Europe/Paris:20251220T170000
DTSTAMP:20260421T111410
CREATED:20251207T155744Z
LAST-MODIFIED:20251207T155744Z
UID:3550-1766241000-1766250000@al-tournefeuille.fr
SUMMARY:Marché Gourmand - samedi 20 décembre 2025
DESCRIPTION:Samedi 20 décembre de 14h30 à 17h \nAchat de produits en direct… et récupération des produits frais commandés \nFormulaire de commandes des produits frais \nA cette occasion un goûter gourmand sera offert après la fermeture du marché
URL:https://al-tournefeuille.fr/calendrier/marche-gourmand-samedi-20-decembre-2025/
END:VEVENT
END:VCALENDAR